BEGIN:VCALENDAR
VERSION:2.0
PRODID:-//Tukios.com/
BEGIN:VEVENT
UID:56c5fcd6-c454-4654-a189-542b8455de83@www.fitchhillisfh.com
DTSTAMP:20260422T200128Z
DTSTART:20260424T170000Z
DTEND:20260424T180000Z
SUMMARY:Funeral Service
DESCRIPTION:
URL:https://www.fitchhillisfh.com/obituaries/tony-anderson-sr
LOCATION:Fitch-Hillis Funeral Chapel 366 College Street  Poplar Bluff MO 
	63901
GEO:36.7595418;-90.3925118
END:VEVENT
END:VCALENDAR