BEGIN:VCALENDAR
VERSION:2.0
PRODID:-//Tukios.com/
BEGIN:VEVENT
UID:a00f15f5-83c8-4a7c-b5cf-6afd85789bdf@www.fitchhillisfh.com
DTSTAMP:20260422T200409Z
DTSTART:20260424T160000Z
DTEND:20260424T170000Z
SUMMARY:Visitation
DESCRIPTION:
URL:https://www.fitchhillisfh.com/obituaries/tony-anderson-sr
LOCATION:Fitch-Hillis Funeral Home 366 College Street  Poplar Bluff MO 
	63901
GEO:36.7595418;-90.3925118
END:VEVENT
END:VCALENDAR