BEGIN:VCALENDAR
VERSION:2.0
PRODID:-//Tukios.com/
BEGIN:VEVENT
UID:d624bb1a-078d-4e07-a207-2d9ed778cd37@www.fitchhillisfh.com
DTSTAMP:20260420T210939Z
DTSTART:20260423T160000Z
DTEND:20260423T170000Z
SUMMARY:Graveside Service
DESCRIPTION:
URL:https://www.fitchhillisfh.com/obituaries/robert-manns
LOCATION: 1905 Missouri 51  Fisk MO 63940
GEO:36.7760118;-90.2329656
END:VEVENT
END:VCALENDAR